BEGIN:VCALENDAR
VERSION:2.0
PRODID:-//SV Krugzell Abteilung Fu&szlig;ball - ECPv6.15.20//NONSGML v1.0//EN
CALSCALE:GREGORIAN
METHOD:PUBLISH
X-WR-CALNAME:SV Krugzell Abteilung Fu&szlig;ball
X-ORIGINAL-URL:https://svkrugzell-fussball.de
X-WR-CALDESC:Veranstaltungen für SV Krugzell Abteilung Fu&szlig;ball
REFRESH-INTERVAL;VALUE=DURATION:PT1H
X-Robots-Tag:noindex
X-PUBLISHED-TTL:PT1H
BEGIN:VTIMEZONE
TZID:UTC
BEGIN:STANDARD
TZOFFSETFROM:+0000
TZOFFSETTO:+0000
TZNAME:UTC
DTSTART:20240101T000000
END:STANDARD
END:VTIMEZONE
BEGIN:VEVENT
DTSTART;TZID=UTC:20251129T100000
DTEND;TZID=UTC:20251129T160000
DTSTAMP:20260422T210923
CREATED:20250821T070657Z
LAST-MODIFIED:20250821T070657Z
UID:677-1764410400-1764432000@svkrugzell-fussball.de
SUMMARY:Christbaumverkauf der Fußballabteilung des SVK
DESCRIPTION:
URL:https://svkrugzell-fussball.de/event/christbaumverkauf-der-fussballabteilung-des-svk/
LOCATION:Sportplatz Krugzell\, Ringstr. 28\, Altusried-Krugzell\, Bayern\, 87452\, Germany
END:VEVENT
END:VCALENDAR