BEGIN:VCALENDAR
VERSION:2.0
PRODID:-//SV Krugzell Abteilung Fu&szlig;ball - ECPv6.15.20//NONSGML v1.0//EN
CALSCALE:GREGORIAN
METHOD:PUBLISH
X-ORIGINAL-URL:https://svkrugzell-fussball.de
X-WR-CALDESC:Veranstaltungen für SV Krugzell Abteilung Fu&szlig;ball
REFRESH-INTERVAL;VALUE=DURATION:PT1H
X-Robots-Tag:noindex
X-PUBLISHED-TTL:PT1H
BEGIN:VTIMEZONE
TZID:Europe/Berlin
BEGIN:DAYLIGHT
TZOFFSETFROM:+0100
TZOFFSETTO:+0200
TZNAME:CEST
DTSTART:20250330T010000
END:DAYLIGHT
BEGIN:STANDARD
TZOFFSETFROM:+0200
TZOFFSETTO:+0100
TZNAME:CET
DTSTART:20251026T010000
END:STANDARD
BEGIN:DAYLIGHT
TZOFFSETFROM:+0100
TZOFFSETTO:+0200
TZNAME:CEST
DTSTART:20260329T010000
END:DAYLIGHT
BEGIN:STANDARD
TZOFFSETFROM:+0200
TZOFFSETTO:+0100
TZNAME:CET
DTSTART:20261025T010000
END:STANDARD
BEGIN:DAYLIGHT
TZOFFSETFROM:+0100
TZOFFSETTO:+0200
TZNAME:CEST
DTSTART:20270328T010000
END:DAYLIGHT
BEGIN:STANDARD
TZOFFSETFROM:+0200
TZOFFSETTO:+0100
TZNAME:CET
DTSTART:20271031T010000
END:STANDARD
END:VTIMEZONE
BEGIN:VEVENT
DTSTART;TZID=Europe/Berlin:20261028T193000
DTEND;TZID=Europe/Berlin:20261028T220000
DTSTAMP:20260422T175604
CREATED:20251125T115230Z
LAST-MODIFIED:20251125T115230Z
UID:1197-1793215800-1793224800@svkrugzell-fussball.de
SUMMARY:Jahreshauptversammlung der Fußballabteilung des SVK mit Neuwahlen
DESCRIPTION:
URL:https://svkrugzell-fussball.de/event/jahreshauptversammlung-der-fussballabteilung-des-svk-mit-neuwahlen/
LOCATION:Sportplatz Krugzell\, Ringstr. 28\, Altusried-Krugzell\, Bayern\, 87452\, Germany
END:VEVENT
END:VCALENDAR