BEGIN:VCALENDAR
VERSION:2.0
PRODID:-//SV Krugzell Abteilung Fu&szlig;ball - ECPv6.15.20//NONSGML v1.0//EN
CALSCALE:GREGORIAN
METHOD:PUBLISH
X-ORIGINAL-URL:https://svkrugzell-fussball.de
X-WR-CALDESC:Veranstaltungen für SV Krugzell Abteilung Fu&szlig;ball
REFRESH-INTERVAL;VALUE=DURATION:PT1H
X-Robots-Tag:noindex
X-PUBLISHED-TTL:PT1H
BEGIN:VTIMEZONE
TZID:Europe/Berlin
BEGIN:DAYLIGHT
TZOFFSETFROM:+0100
TZOFFSETTO:+0200
TZNAME:CEST
DTSTART:20250330T010000
END:DAYLIGHT
BEGIN:STANDARD
TZOFFSETFROM:+0200
TZOFFSETTO:+0100
TZNAME:CET
DTSTART:20251026T010000
END:STANDARD
BEGIN:DAYLIGHT
TZOFFSETFROM:+0100
TZOFFSETTO:+0200
TZNAME:CEST
DTSTART:20260329T010000
END:DAYLIGHT
BEGIN:STANDARD
TZOFFSETFROM:+0200
TZOFFSETTO:+0100
TZNAME:CET
DTSTART:20261025T010000
END:STANDARD
BEGIN:DAYLIGHT
TZOFFSETFROM:+0100
TZOFFSETTO:+0200
TZNAME:CEST
DTSTART:20270328T010000
END:DAYLIGHT
BEGIN:STANDARD
TZOFFSETFROM:+0200
TZOFFSETTO:+0100
TZNAME:CET
DTSTART:20271031T010000
END:STANDARD
END:VTIMEZONE
BEGIN:VEVENT
DTSTART;TZID=Europe/Berlin:20261113T193000
DTEND;TZID=Europe/Berlin:20261113T233000
DTSTAMP:20260422T192919
CREATED:20251125T114733Z
LAST-MODIFIED:20251125T114733Z
UID:1189-1794598200-1794612600@svkrugzell-fussball.de
SUMMARY:Helferfest der Turniertage 2026
DESCRIPTION:
URL:https://svkrugzell-fussball.de/event/helferfest-der-turniertage-2026/
LOCATION:Sportplatz Krugzell\, Ringstr. 28\, Altusried-Krugzell\, Bayern\, 87452\, Germany
END:VEVENT
BEGIN:VEVENT
DTSTART;TZID=Europe/Berlin:20261114T100000
DTEND;TZID=Europe/Berlin:20261114T150000
DTSTAMP:20260422T192919
CREATED:20251125T115502Z
LAST-MODIFIED:20251125T115502Z
UID:1199-1794650400-1794668400@svkrugzell-fussball.de
SUMMARY:"Großputz" Sportplatz Krugzell
DESCRIPTION:Sportplatz winterfest machen (Netze abhängen)\nKabinen\, _Toiletten\, Sportheim und Duschen reinigen\nBallraum aufräumen und Trainingsequipment reinigen + einlagern
URL:https://svkrugzell-fussball.de/event/grossputz-sportplatz-krugzell/
LOCATION:Sportplatz Krugzell\, Ringstr. 28\, Altusried-Krugzell\, Bayern\, 87452\, Germany
END:VEVENT
BEGIN:VEVENT
DTSTART;TZID=Europe/Berlin:20261128T100000
DTEND;TZID=Europe/Berlin:20261128T160000
DTSTAMP:20260422T192919
CREATED:20251125T114858Z
LAST-MODIFIED:20251125T114858Z
UID:1191-1795860000-1795881600@svkrugzell-fussball.de
SUMMARY:Christbaumverkauf SV Krugzell
DESCRIPTION:
URL:https://svkrugzell-fussball.de/event/christbaumverkauf-sv-krugzell/
LOCATION:Sportplatz Krugzell\, Ringstr. 28\, Altusried-Krugzell\, Bayern\, 87452\, Germany
END:VEVENT
END:VCALENDAR